BEGIN:VCALENDAR
VERSION:2.0
PRODID:spatie/icalendar-generator
DESCRIPTION:Events from Durham 4x4
X-WR-CALDESC:Events from Durham 4x4
REFRESH-INTERVAL;VALUE=DURATION:PT1440M
X-PUBLISHED-TTL:PT1440M
BEGIN:VTIMEZONE
TZID:America/Toronto
BEGIN:STANDARD
DTSTART:20251102T020000Z
TZOFFSETFROM:-0400
TZOFFSETTO:-0500
END:STANDARD
BEGIN:DAYLIGHT
DTSTART:20260308T020000Z
TZOFFSETFROM:-0500
TZOFFSETTO:-0400
END:DAYLIGHT
BEGIN:STANDARD
DTSTART:20261101T020000Z
TZOFFSETFROM:-0400
TZOFFSETTO:-0500
END:STANDARD
END:VTIMEZONE
BEGIN:VTIMEZONE
TZID:UTC
BEGIN:STANDARD
DTSTART:20250725T174822Z
TZOFFSETFROM:+0000
TZOFFSETTO:+0000
END:STANDARD
END:VTIMEZONE
BEGIN:VEVENT
UID:3-3
DTSTAMP:20260421T174822Z
SUMMARY:Season Opening Run
LOCATION:
ORGANIZER;CN=Lance Nichols:MAILTO:lance.nichols@gmail.com
DTSTART;TZID=America/Toronto;VALUE=DATE:20260502
DTEND;TZID=America/Toronto;VALUE=DATE:20260503
X-ALT-DESC;FMTTYPE=TEXT/HTML:This is the season opener run\, and this year 
 we are doing the Gooderham Trail. *This run is open to club members and no
 n-club members.* We will do an initial meet-up at the Tim Hortons at Harmo
 ny Road North (sharing the lot with Wendy's) between 08:00 and 08:30\, lea
 ving for the second meet-up site -&amp;hellip\;
CATEGORIES:Trail Run
URL;VALUE=URI:http://www.durham4x4.ca/mc-events/season-opening-run/
METHOD:PUBLISH
END:VEVENT
END:VCALENDAR