BEGIN:VCALENDAR
VERSION:2.0
PRODID:spatie/icalendar-generator
DESCRIPTION:Events from Durham 4x4
X-WR-CALDESC:Events from Durham 4x4
REFRESH-INTERVAL;VALUE=DURATION:PT1440M
X-PUBLISHED-TTL:PT1440M
BEGIN:VTIMEZONE
TZID:America/Toronto
BEGIN:STANDARD
DTSTART:20251102T020000Z
TZOFFSETFROM:-0400
TZOFFSETTO:-0500
END:STANDARD
BEGIN:DAYLIGHT
DTSTART:20260308T020000Z
TZOFFSETFROM:-0500
TZOFFSETTO:-0400
END:DAYLIGHT
END:VTIMEZONE
BEGIN:VTIMEZONE
TZID:UTC
BEGIN:STANDARD
DTSTART:20250725T174818Z
TZOFFSETFROM:+0000
TZOFFSETTO:+0000
END:STANDARD
END:VTIMEZONE
BEGIN:VEVENT
UID:5-2
DTSTAMP:20260421T174818Z
SUMMARY:Coffee Night
LOCATION:
ORGANIZER;CN=Ivan:MAILTO:ishaw@mentoria.on.ca
RRULE:FREQ=WEEKLY;UNTIL=20271208T000000Z
DTSTART;TZID=America/Toronto:20260422T190000
DTEND;TZID=America/Toronto:20260422T200000
X-ALT-DESC;FMTTYPE=TEXT/HTML:
CATEGORIES:General
URL;VALUE=URI:http://www.durham4x4.ca/mc-events/coffee-night/?mc_id=5
METHOD:PUBLISH
END:VEVENT
END:VCALENDAR